BEGIN:VCALENDAR
VERSION:2.0
PRODID:-//wp-events-plugin.com//7.2.3.1//EN
TZID:Australia/Melbourne
X-WR-TIMEZONE:Australia/Melbourne
BEGIN:VEVENT
UID:11@carersnt.asn.au
DTSTART;TZID=Australia/Darwin:20210902T100000
DTEND;TZID=Australia/Darwin:20210902T140000
DTSTAMP:20210721T065426Z
URL:https://www.carersnt.asn.au/events/carer-gateway-peer-support-darwin-s
 uburbs-2021-09-02/
SUMMARY:Carer Gateway Peer Support - Darwin Suburbs
DESCRIPTION:To Register\, please contact Carer Gateway on 1800 422 737
END:VEVENT
BEGIN:VTIMEZONE
TZID:Australia/Darwin
X-LIC-LOCATION:Australia/Darwin
BEGIN:STANDARD
DTSTART:20200902T100000
TZOFFSETFROM:+0930
TZOFFSETTO:+0930
TZNAME:ACST
END:STANDARD
END:VTIMEZONE
END:VCALENDAR