BEGIN:VCALENDAR
VERSION:2.0
PRODID:-//wp-events-plugin.com//7.2.3.1//EN
TZID:Australia/Melbourne
X-WR-TIMEZONE:Australia/Melbourne
BEGIN:VEVENT
UID:17@carersnt.asn.au
DTSTART;TZID=Australia/Darwin:20221016T100000
DTEND;TZID=Australia/Darwin:20221016T120000
DTSTAMP:20220929T012423Z
URL:https://www.carersnt.asn.au/events/carers-week-family-fun-day-2022/
SUMMARY:Carers Week Family Fun Day - Darwin 2022
DESCRIPTION:Location - Leanyer Recreation Park\n\n 	Live Broadcast by Mix 1
 04.9\n 	Free entry\, free sausage sizzle\, free Jumping Castle &amp\; Fair
 y Jill.\n\n&nbsp\;\n\n&nbsp\;
END:VEVENT
BEGIN:VTIMEZONE
TZID:Australia/Darwin
X-LIC-LOCATION:Australia/Darwin
BEGIN:STANDARD
DTSTART:20211016T100000
TZOFFSETFROM:+0930
TZOFFSETTO:+0930
TZNAME:ACST
END:STANDARD
END:VTIMEZONE
END:VCALENDAR