BEGIN:VCALENDAR
VERSION:2.0
PRODID:-//wp-events-plugin.com//7.2.3.1//EN
TZID:Australia/Melbourne
X-WR-TIMEZONE:Australia/Melbourne
BEGIN:VEVENT
UID:75@carersnt.asn.au
DTSTART;TZID=Australia/Melbourne:20240411T120000
DTEND;TZID=Australia/Melbourne:20240411T140000
DTSTAMP:20240212T052026Z
URL:https://www.carersnt.asn.au/events/carers-workshop-and-luncheon-darwin
 -2/
SUMMARY:Carers Workshop and Luncheon - Darwin
DESCRIPTION:
END:VEVENT
BEGIN:VTIMEZONE
TZID:Australia/Melbourne
X-LIC-LOCATION:Australia/Melbourne
BEGIN:STANDARD
DTSTART:20240407T020000
TZOFFSETFROM:+1100
TZOFFSETTO:+1000
TZNAME:AEST
END:STANDARD
END:VTIMEZONE
END:VCALENDAR