BEGIN:VCALENDAR
VERSION:2.0
PRODID:-//wp-events-plugin.com//7.2.3.1//EN
TZID:Australia/Melbourne
X-WR-TIMEZONE:Australia/Melbourne
BEGIN:VEVENT
UID:2@carersnt.asn.au
DTSTART;TZID=Australia/Melbourne:20210320T093000
DTEND;TZID=Australia/Melbourne:20210320T113000
DTSTAMP:20210302T033203Z
URL:https://www.carersnt.asn.au/events/free-first-aid-training-for-territo
 ry-carers-3/
SUMMARY:FREE First Aid training for Territory Carers
DESCRIPTION:Carers NT are seeking expression of interest from registered ca
 rers across the NT to attend these invaluable workshops:\n\n• Standard M
 ental Health First Aid\n\n• Youth Mental Health First Aid\n\n• Aborigi
 nal &amp\; Torres Strait Islander Mental Health First Aid\n\nIf you’re a
  registered carer who wants to learn these skills at our FREE workshops\, 
 please call Carers NT NOW on 1800 422 737
END:VEVENT
BEGIN:VTIMEZONE
TZID:Australia/Melbourne
X-LIC-LOCATION:Australia/Melbourne
BEGIN:DAYLIGHT
DTSTART:20201004T030000
TZOFFSETFROM:+1000
TZOFFSETTO:+1100
TZNAME:AEDT
END:DAYLIGHT
END:VTIMEZONE
END:VCALENDAR