BEGIN:VCALENDAR
VERSION:2.0
PRODID:-//wp-events-plugin.com//7.2.3.1//EN
TZID:Australia/Melbourne
X-WR-TIMEZONE:Australia/Melbourne
BEGIN:VEVENT
UID:24@carersnt.asn.au
DTSTART;TZID=Australia/Darwin:20221018T100000
DTEND;TZID=Australia/Darwin:20221018T120000
DTSTAMP:20221002T233019Z
URL:https://www.carersnt.asn.au/events/information-session-catholiccare-sa
 nta-teresa-community/
SUMMARY:Information Session - CatholicCare Santa Teresa Community
DESCRIPTION:Location: CatholicCare Santa Teresa Community\n\n 	Free light l
 unch\n
END:VEVENT
BEGIN:VTIMEZONE
TZID:Australia/Darwin
X-LIC-LOCATION:Australia/Darwin
BEGIN:STANDARD
DTSTART:20211018T100000
TZOFFSETFROM:+0930
TZOFFSETTO:+0930
TZNAME:ACST
END:STANDARD
END:VTIMEZONE
END:VCALENDAR